BEGIN:VCALENDAR
VERSION:2.0
PRODID:-//wp-events-plugin.com//7.2.3.1//EN
BEGIN:VEVENT
UID:45@fermanaghredsquirrelgroup.com
DTSTART:20190128T193000Z
DTEND:20190128T210000Z
DTSTAMP:20190114T212250Z
URL:https://www.fermanaghredsquirrelgroup.com/events/frsg-red-squirrel-uni
 ted-meeting
SUMMARY:FRSG & Red Squirrel United Meeting
DESCRIPTION:The FRSG and the Ulster Wildlife's Red Squirrel United Project 
 are getting together again to promote communities and volunteers getting i
 nvolved in monitoring areas vulnerable to grey squirrel incursions. The no
 rth-east and east of the county have been identified as being vulnerable t
 o greys. To this end\, we're holding a meeting in Ballinamallard on Monday
  28th January at 7:30pm in the Archdale memorial Hall\, 10 Baragh Road\, B
 allinmallard BT94 92NY. (If driving from Enniskillen\, drive along the mai
 n street past the Church of Ireland on the right and take the next left\, 
 the hall is about 100m from the junction on the left.)
LOCATION:Archdale Memorial Hall\, 10 Baragh Road\, Ballinmallard\, Fermanag
 h\, BT94 92NY\, Northern Ireland
X-APPLE-STRUCTURED-LOCATION;VALUE=URI;X-ADDRESS=10 Baragh Road\, Ballinmall
 ard\, Fermanagh\, BT94 92NY\, Northern Ireland;X-APPLE-RADIUS=100;X-TITLE=
 Archdale Memorial Hall:geo:0,0
END:VEVENT
END:VCALENDAR